BEGIN:VCALENDAR
VERSION:2.0
PRODID:-//Collins Family Reunion - ECPv6.15.20//NONSGML v1.0//EN
CALSCALE:GREGORIAN
METHOD:PUBLISH
X-WR-CALNAME:Collins Family Reunion
X-ORIGINAL-URL:https://www.collins-reunion.com
X-WR-CALDESC:Events for Collins Family Reunion
REFRESH-INTERVAL;VALUE=DURATION:PT1H
X-Robots-Tag:noindex
X-PUBLISHED-TTL:PT1H
BEGIN:VTIMEZONE
TZID:America/Chicago
BEGIN:DAYLIGHT
TZOFFSETFROM:-0600
TZOFFSETTO:-0500
TZNAME:CDT
DTSTART:20240310T080000
END:DAYLIGHT
BEGIN:STANDARD
TZOFFSETFROM:-0500
TZOFFSETTO:-0600
TZNAME:CST
DTSTART:20241103T070000
END:STANDARD
BEGIN:DAYLIGHT
TZOFFSETFROM:-0600
TZOFFSETTO:-0500
TZNAME:CDT
DTSTART:20250309T080000
END:DAYLIGHT
BEGIN:STANDARD
TZOFFSETFROM:-0500
TZOFFSETTO:-0600
TZNAME:CST
DTSTART:20251102T070000
END:STANDARD
BEGIN:DAYLIGHT
TZOFFSETFROM:-0600
TZOFFSETTO:-0500
TZNAME:CDT
DTSTART:20260308T080000
END:DAYLIGHT
BEGIN:STANDARD
TZOFFSETFROM:-0500
TZOFFSETTO:-0600
TZNAME:CST
DTSTART:20261101T070000
END:STANDARD
BEGIN:DAYLIGHT
TZOFFSETFROM:-0600
TZOFFSETTO:-0500
TZNAME:CDT
DTSTART:20270314T080000
END:DAYLIGHT
BEGIN:STANDARD
TZOFFSETFROM:-0500
TZOFFSETTO:-0600
TZNAME:CST
DTSTART:20271107T070000
END:STANDARD
END:VTIMEZONE
BEGIN:VEVENT
DTSTART;TZID=America/Chicago:20250628T150000
DTEND;TZID=America/Chicago:20250705T200000
DTSTAMP:20260425T100433
CREATED:20250609T211712Z
LAST-MODIFIED:20250628T184125Z
UID:8499-1751122800-1751745600@www.collins-reunion.com
SUMMARY:🌳2025 Collins Family "Reunion Celebration" Luncheon | Saturday\, June 28\, 2025 @ 3:00PM
DESCRIPTION:🎈Come join us! We are excited to come together again with our loved ones sharing our love\, laughter\, happiness\, and to celebrate the success of our Collins Family and our rich heritage.  The Family “Reunion Celebration” (Main Event) will be held Saturday\, June 28th from 2:00 p.m. to 8:00 p.m. at the Salvation Army Boys & Girls Club Community Center\, 12507 Windfern Rd\, Houston\, TX 77064.  \nSaturday\, June 28\, 2025\nSalvation Army Boys & Girls Club Community Center\nCollins Family “‘Reunion Celebration” (Main Event)\n2:00 p.m. – 3:00 p.m. – Registration/Pickup T-Shirt \nSaturday\, June 28\, 2025\, Family Reunion Registration Fees:\nAdults (ages 18 years & up): $30.00\nChildren (ages 6 – 17 years old): $12.00\nInfants & Toddlers (ages 5 years and under): FREE*\n \nReunion T-Shirt Fees: \nYouth & Adult Sizes (Small to XL): $14.00\nAdult Sizes (2XL): $16.00\nAdult Sizes (3XL – 5XL): $17.00
URL:https://www.collins-reunion.com/event/%f0%9f%8c%b32025-collins-family-reunion-celebration-luncheon-saturday-june-28-2025-100pm/
CATEGORIES:Event,Registration
ATTACH;FMTTYPE=image/jpeg:https://www.collins-reunion.com/wp-content/uploads/2025/06/20240629_135618-scaled.jpg
END:VEVENT
BEGIN:VEVENT
DTSTART;TZID=America/Chicago:20250629T103000
DTEND;TZID=America/Chicago:20250629T120000
DTSTAMP:20260425T100433
CREATED:20250609T212155Z
LAST-MODIFIED:20250611T164020Z
UID:8505-1751193000-1751198400@www.collins-reunion.com
SUMMARY:🌳2025 Collins Family Reunion "Greater Zion Missionary Baptist Church" | Sunday\, June 29\, 2025 @ 11:00AM
DESCRIPTION:We’re celebrating our beautiful Mother Eliza Ann Robertson’s 101st Birthday.  Mother Eliza turned 101 years old on April 4\, 2025.\n\nCome join us as we fellowship at our family church\, Greater Zion Missionary Baptist Church.  Established in 1921\, the church was first known as “Little Zion” before being renamed “Greater Zion”\, under Pastoral Leadership\, Rev. W.H. Haynes.  On July 1\, 2012\, the Greater Zion Missionary Baptist Church installed Reverend Dayle Perry as its ninth pastor.  Reverend Perry’s growing vision for the church is to continue building and adding to the church property by purchasing all property adjacent to the church.  His motto for the church is “We are a church on the move”.  Rev. Perry continues to make spiritual advancements as pastor of Greater Zion.  He has ordained preachers and deacons to help carry out duties in the Kingdom of the Lord.  Read More… \n10:30 a.m. – 10:45 a.m. – Reserved Seating for 15\n11:00 a.m. – 12:00 p.m. – Family Church Service\n1:00 p.m. – Family Farewell \n1620 Dolly Wright St\, Houston\, TX 77088\nDirections\nGreater Zion Missionary Baptist Church (gzmbc.org)
URL:https://www.collins-reunion.com/event/%f0%9f%8c%b32025-collins-family-reunion-greater-zion-missionary-baptist-church-sunday-june-29-2025-1100am/
LOCATION:Greater Zion Missionary Baptist Church\, 1620 Dolly Wright St\, Houston\, TX\, 77088\, United States
CATEGORIES:Event,Registration
ATTACH;FMTTYPE=image/jpeg:https://www.collins-reunion.com/wp-content/uploads/2024/05/GZMBC_Houston.jpg
END:VEVENT
BEGIN:VEVENT
DTSTART;TZID=America/Chicago:20260626T180000
DTEND;TZID=America/Chicago:20260626T220000
DTSTAMP:20260425T100433
CREATED:20260331T102817Z
LAST-MODIFIED:20260425T132240Z
UID:9143-1782496800-1782511200@www.collins-reunion.com
SUMMARY:🎈2026 Collins Family Reunion "Meet & Greet Reunion Kick Off" | Dave & Buster's
DESCRIPTION:Come join us!  Buy your tickets today and your Family for the Friday “Meet & Greet Reunion Kick Off” at Dave & Buster’s! Bring the whole family for a day of fun\, basketball and arcade games\, bowling\, dancing\, sports bar\, and more!  Lets continue to make wonderful memories with our loved ones sharing our love\, laughter\, happiness\, and to celebrate the success of our Collins Family and our rich heritage.   \nThe Collins Family Reunion “Meet & Greet” (Kick off Event) will be held Friday\, June 26th from 6:00 p.m. to 10:00 p.m. at the Dave & Buster’s Houston\, 7620 Katy Fwy\, Houston\, TX 77024. \nLocation\n7620 Katy Fwy\, Houston\, TX 77024\n📍Directions \nFriday\, June 26\, 2026\nDave & Buster’s Houston Collins Family Reunion “Meet & Greet” Kick Off\nReunion Kick Off | 6:00PM – 10:00PM\nPickup Reunion T-Shirts | 7:00PM \nFriday\, June 26\, 2026\, Dave & Buster’s and Saturday\, June 27\, 2026 Collins Family Reunion “Celebration Luncheon” \nTwo Day Event Fees:\nAdults (ages 17 years & up): $\nChildren (ages 6 – 16 years old): $\nInfants & Toddlers (ages 5 years and under): FREE* \nFamily Reunion Payment & No-Refund Disclosure\nNo-Refund Policy\nAll payments are final and non-refundable. Once funds are received\, they are immediately committed to third-party vendors and the purchase of perishable goods.  Because the budget is based on the total number of confirmed participants\, we cannot offer refunds for: cancellations due to personal scheduling conflicts\, travel delays or transportation issues\, inclement weather (unless the venue officially closes)\, and no-shows on the day of the event. \nEvent Cancellation\nIn the unlikely event that the reunion is cancelled by the Collins Family Reunion Planning Committee due to unforeseen circumstances\, any recoverable funds (those not already spent on supplies or kept by vendors) will be distributed back to participants on a pro-rata basis. \nFriday\, June 26\, 2026\, Dave & Buster’s Menu:\nGrill & Chill Banquet:\nSlow-Smoked Pork Ribs\nGrilled BBQ Chicken Legs & Thighs\nSmoked Jalapeno Cheddar Sausage\nBaked Mac & Cheese\nBaked Beans & Bacon\nHouse-Made Potato Salad\nClassic Coleslaw\nUnlimited Soda\, Tea and Coffee \nThe Ultimate Player Pack Menu (younger guests):\n1/2 Pepperoni and 1/2 Ultimate Cheese\nSmashed Burger Sliders\nGarlic Butter Pretzel Sticks\nCrispy Chicken Bites with Ranch\nIncludes: French Fries\, Seasonal Fruit and Unlimited Fountain Drinks \n\n\nINSTRUCTIONS FOR ALL -CASH BAR \nALL – CASH BAR\nCash Bar is available for alcoholic beverages. Guests may purchase beverages on an individual cash basis. Must be 21 or over to purchase. Valid ID for all guests is required at the time of the event. Void where prohibited. \nINSTRUCTIONS FOR VIDEO GAME PLAY & BOWLING\nPLAY:\nUltimate Player Pack $20 Power Card\nUltimate Player Pack Power Cards are part of a package including food\, beverage and $20 game card. The number of Power Cards must identically match the number of guests dining from the Ultimate Player.  Pack food service.  Additional Power Cards above and beyond the amount dining from the food service are available at regular Power Card \nUnlimited Video Game Play Add-On\nPower Cards with Unlimited Video Game Play are good for non-redemption games ONLY (games with a Blue light around the card reader). Your unlimited video game play\nwill begin at the first swipe of the power card and will be available until the location closes on the day of your event. Excludes ticketed\, specialty & crane games (games without a Blue light around the card reader) which can be accessed with the chips on the power card.\n\n\n\nFREE UNLIMITED VIDEO GAME PLAY  \nBOWLING\n2 Lanes\n2 Hours\nBowling shoes are included\, max 8 per lane or 16 total.
URL:https://www.collins-reunion.com/event/%f0%9f%8e%882026-collins-family-reunion-meet-greet-reunion-kick-off-dave-busters/
LOCATION:Dave & Buster’s Houston – Katy Fwy\, 7620 Katy Fwy #100\, Houston\, TX\, 77024\, United States
CATEGORIES:Event,Registration
ATTACH;FMTTYPE=image/webp:https://www.collins-reunion.com/wp-content/uploads/2026/04/bowlingarea.webp
END:VEVENT
BEGIN:VEVENT
DTSTART;TZID=America/Chicago:20260627T130000
DTEND;TZID=America/Chicago:20260627T200000
DTSTAMP:20260425T100433
CREATED:20260331T103455Z
LAST-MODIFIED:20260425T132112Z
UID:9145-1782565200-1782590400@www.collins-reunion.com
SUMMARY:🎈2026 Collins Family "Reunion Celebration" Luncheon | Saturday\, June 27\, 2026 @ 1:00PM
DESCRIPTION:🎈Come join us! We are excited to come together again with our loved ones sharing our love\, laughter\, happiness\, and to celebrate the success of our Collins Family and our rich heritage.  The Family “Reunion Celebration” (Main Event) will be held Saturday\, June 27th from 1:00 p.m. to 8:00 p.m. at the Salvation Army Boys & Girls Club Community Center\, 12507 Windfern Rd\, Houston\, TX 77064.  \nSaturday\, June 27\, 2026\nSalvation Army Boys & Girls Club Community Center\nCollins Family “‘Reunion Celebration” (Main Event)\nRegistration & Pickup T-Shirt: 12:00 p.m. – 1:00 p.m. \nFriday\, June 26\, 2026\, Dave & Buster’s and Saturday\, June 27\, 2026 Collins Family Reunion “Celebration Luncheon” \nTwo Day Event Fees:\nAdults (ages 17 years & up): $\nChildren (ages 6 – 16 years old): $\nInfants & Toddlers (ages 5 years and under): FREE* \nAdd-On Reunion T-Shirt Fees: \nYouth & Adult Sizes (Small to XL): $\n \nFamily Reunion Payment & No-Refund Disclosure\nNo-Refund Policy\nAll payments are final and non-refundable. Once funds are received\, they are immediately committed to third-party vendors and the purchase of perishable goods.  Because the budget is based on the total number of confirmed participants\, we cannot offer refunds for: cancellations due to personal scheduling conflicts\, travel delays or transportation issues\, inclement weather (unless the venue officially closes)\, and no-shows on the day of the event. \nEvent Cancellation\nIn the unlikely event that the reunion is cancelled by the Collins Family Reunion Planning Committee due to unforeseen circumstances\, any recoverable funds (those not already spent on supplies or kept by vendors) will be distributed back to participants on a pro-rata basis. \nFriday\, June 26\, 2026\, Collins Family “Reunion Celebration” Luncheon Menu:\nFried Fish or Fried Chicken Wings\nTater Tots\nBread or Rolls\nBaked Green Beans\nToss Salad\nHouse-Made Potato Salad\nFruits\nUnlimited Soda\, Juice\, Water
URL:https://www.collins-reunion.com/event/%f0%9f%8c%b32026-collins-family-reunion-celebration-luncheon-saturday-june-27-2025-100pm/
CATEGORIES:Event
ATTACH;FMTTYPE=image/jpeg:https://www.collins-reunion.com/wp-content/uploads/2025/06/cropped-20240629_135618-scaled-1.jpg
END:VEVENT
BEGIN:VEVENT
DTSTART;TZID=America/Chicago:20260628T100000
DTEND;TZID=America/Chicago:20260628T120000
DTSTAMP:20260425T100433
CREATED:20260331T104733Z
LAST-MODIFIED:20260331T104747Z
UID:9147-1782640800-1782648000@www.collins-reunion.com
SUMMARY:🌳2026 Collins Family Reunion "Fellowship at Bella Vista MBC" | Sunday\, June 28\, 2026 @ 10:00AM
DESCRIPTION:Come join us as we fellowship at our family church\, Bella Vista Missionary Baptist Church since 1955 under Pastoral Leadership\, Rev. George H. Nickerson\, Sr.  On December 28\, 2013\, the church elected Rev. Jacari P. Davis and he became the 5th Pastor of the Bella Vista Church family preaching and teaching the word of God\, leading people to Christ\, and developing ministries.  \n9:30 a.m. – 9:45 a.m. – Reserved Seating for 15\n10:00 a.m. – 12:00 p.m. – Family Church Service\n12:00 p.m. – Family Farewell \nLocation: 803 E 36th St\, Houston\, TX 77022\nDirections
URL:https://www.collins-reunion.com/event/%f0%9f%8c%b32026-collins-family-reunion-fellowship-at-bella-vista-mbc-sunday-june-28-2026-1000am/
LOCATION:Bella Vista Missionary Baptist Church\, 803 E 36th St\, Houston\, TX\, 77022\, United States
CATEGORIES:Event
ATTACH;FMTTYPE=image/jpeg:https://www.collins-reunion.com/wp-content/uploads/2022/07/BVMB.jpg
END:VEVENT
END:VCALENDAR